BEGIN:VCALENDAR
VERSION:2.0
PRODID:-//www.reinach-fuer-kinder.ch//NONSGML kigkonsult.se iCalcreator 2.2
 2//
CALSCALE:GREGORIAN
METHOD:PUBLISH
X-WR-TIMEZONE:Europe/Berlin
BEGIN:VEVENT
UID:20260422T190629CEST-2703bW4fpW@www.reinach-fuer-kinder.ch
DTSTAMP:20260422T170629Z
DESCRIPTION:Klicken Sie auf den folgenden Link\, um weitere Informationen z
 ur Veranstaltung zu erhalten:\nhttp://www.reinach-fuer-kinder.ch/de/abfall
 wirtschaft/abfallkalender/detail/detail.php?i=
DTSTART;VALUE=DATE:20261222
LOCATION:Kreis West
SUMMARY:Grünabfuhr/Bioabfall
END:VEVENT
END:VCALENDAR
