BEGIN:VCALENDAR
VERSION:2.0
PRODID:-//www.reinach-fuer-kinder.ch//NONSGML kigkonsult.se iCalcreator 2.2
 2//
CALSCALE:GREGORIAN
METHOD:PUBLISH
X-WR-TIMEZONE:Europe/Berlin
BEGIN:VEVENT
UID:20260422T174736CEST-0201G2PALC@www.reinach-fuer-kinder.ch
DTSTAMP:20260422T154736Z
DESCRIPTION:Klicken Sie auf den folgenden Link\, um weitere Informationen z
 ur Veranstaltung zu erhalten:\nhttp://www.reinach-fuer-kinder.ch/de/verans
 taltungen/detail/detail.php?i=10644
DTSTART:20260610T140000
DTEND:20260610T160000
LOCATION:Jugendhaus Palais noir
SUMMARY:Boys* Treff im Jugendhaus
END:VEVENT
END:VCALENDAR
