BEGIN:VCALENDAR
VERSION:2.0
PRODID:-//www.reinach-fuer-kinder.ch//NONSGML kigkonsult.se iCalcreator 2.2
 2//
CALSCALE:GREGORIAN
METHOD:PUBLISH
X-WR-TIMEZONE:Europe/Berlin
BEGIN:VEVENT
UID:20260422T174640CEST-3161jrLp2Z@www.reinach-fuer-kinder.ch
DTSTAMP:20260422T154640Z
DESCRIPTION:Klicken Sie auf den folgenden Link\, um weitere Informationen z
 ur Veranstaltung zu erhalten:\nhttp://www.reinach-fuer-kinder.ch/de/verans
 taltungen/detail/detail.php?i=10665
DTSTART:20260526T160000
DTEND:20260526T200000
LOCATION:Jugendhaus Palais noir
SUMMARY:Palais z'Nacht für Jugendliche
END:VEVENT
END:VCALENDAR
