BEGIN:VCALENDAR
VERSION:2.0
PRODID:-//www.reinach-fuer-kinder.ch//NONSGML kigkonsult.se iCalcreator 2.2
 2//
CALSCALE:GREGORIAN
METHOD:PUBLISH
X-WR-TIMEZONE:Europe/Berlin
BEGIN:VEVENT
UID:20260422T174638CEST-8664CZ64H6@www.reinach-fuer-kinder.ch
DTSTAMP:20260422T154638Z
DESCRIPTION:Klicken Sie auf den folgenden Link\, um weitere Informationen z
 ur Veranstaltung zu erhalten:\nhttp://www.reinach-fuer-kinder.ch/de/verans
 taltungen/detail/detail.php?i=10689
DTSTART:20260522T180000
DTEND:20260522T230000
LOCATION:Jugendhaus Palais noir
SUMMARY:Pizza z'Nacht für Jugendliche
END:VEVENT
END:VCALENDAR
