BEGIN:VCALENDAR
VERSION:2.0
PRODID:-//www.reinach-fuer-kinder.ch//NONSGML kigkonsult.se iCalcreator 2.2
 2//
CALSCALE:GREGORIAN
METHOD:PUBLISH
X-WR-TIMEZONE:Europe/Berlin
BEGIN:VEVENT
UID:20260422T174752CEST-9181GDofVP@www.reinach-fuer-kinder.ch
DTSTAMP:20260422T154752Z
DESCRIPTION:Klicken Sie auf den folgenden Link\, um weitere Informationen z
 ur Veranstaltung zu erhalten:\nhttp://www.reinach-fuer-kinder.ch/de/verans
 taltungen/detail/detail.php?i=10717
DTSTART:20260429T150000
DTEND:20260429T154500
LOCATION:Gemeinde- und Schulbibliothek Reinach
SUMMARY:Geschichtenzeit
END:VEVENT
END:VCALENDAR
