BEGIN:VCALENDAR
VERSION:2.0
PRODID:-//www.reinach-fuer-kinder.ch//NONSGML kigkonsult.se iCalcreator 2.2
 2//
CALSCALE:GREGORIAN
METHOD:PUBLISH
X-WR-TIMEZONE:Europe/Berlin
BEGIN:VEVENT
UID:20260422T174734CEST-4066ifRSOi@www.reinach-fuer-kinder.ch
DTSTAMP:20260422T154734Z
DESCRIPTION:Klicken Sie auf den folgenden Link\, um weitere Informationen z
 ur Veranstaltung zu erhalten:\nhttp://www.reinach-fuer-kinder.ch/de/verans
 taltungen/detail/detail.php?i=10747
DTSTART:20260705T133000
DTEND:20260705T143000
LOCATION:Wohn- und Bürozentrum für Körperbehinderte (WBZ)
SUMMARY:Kultur am Sunntig im WBZ mit Little Chevy
END:VEVENT
END:VCALENDAR
