BEGIN:VCALENDAR
VERSION:2.0
PRODID:-//www.reinach-fuer-kinder.ch//NONSGML kigkonsult.se iCalcreator 2.2
 2//
CALSCALE:GREGORIAN
METHOD:PUBLISH
X-WR-TIMEZONE:Europe/Berlin
BEGIN:VEVENT
UID:20260422T174751CEST-2692me64Pm@www.reinach-fuer-kinder.ch
DTSTAMP:20260422T154751Z
DESCRIPTION:Klicken Sie auf den folgenden Link\, um weitere Informationen z
 ur Veranstaltung zu erhalten:\nhttp://www.reinach-fuer-kinder.ch/de/verans
 taltungen/detail/detail.php?i=10753
DTSTART:20261004T103000
DTEND:20261004T130000
LOCATION:Restaurant Piazza
SUMMARY:Sonntagsbrunch im Restaurant Piazza (WBZ)
END:VEVENT
END:VCALENDAR
