BEGIN:VCALENDAR
VERSION:2.0
PRODID:-//www.reinach-fuer-kinder.ch//NONSGML kigkonsult.se iCalcreator 2.2
 2//
CALSCALE:GREGORIAN
METHOD:PUBLISH
X-WR-TIMEZONE:Europe/Berlin
BEGIN:VEVENT
UID:20260422T174638CEST-64708f5F4w@www.reinach-fuer-kinder.ch
DTSTAMP:20260422T154638Z
DESCRIPTION:Klicken Sie auf den folgenden Link\, um weitere Informationen z
 ur Veranstaltung zu erhalten:\nhttp://www.reinach-fuer-kinder.ch/de/verans
 taltungen/detail/detail.php?i=10837
DTSTART:20261014T093000
DTEND:20261014T101500
LOCATION:
SUMMARY:Mir laufe zämme
END:VEVENT
END:VCALENDAR
