BEGIN:VCALENDAR
VERSION:2.0
PRODID:-//www.reinach-fuer-kinder.ch//NONSGML kigkonsult.se iCalcreator 2.2
 2//
CALSCALE:GREGORIAN
METHOD:PUBLISH
X-WR-TIMEZONE:Europe/Berlin
BEGIN:VEVENT
UID:20260422T174738CEST-88610jRF3V@www.reinach-fuer-kinder.ch
DTSTAMP:20260422T154738Z
DESCRIPTION:Klicken Sie auf den folgenden Link\, um weitere Informationen z
 ur Veranstaltung zu erhalten:\nhttp://www.reinach-fuer-kinder.ch/de/verans
 taltungen/detail/detail.php?i=10853
DTSTART:20260620T180000
DTEND:20260621T140000
LOCATION:Gemeindehaus-\, Angensteiner-\, Feigenwinterplatz\, Vorplatz Schre
 inerei Wenger (Ziegelgasse)
SUMMARY:Jazz Weekend
END:VEVENT
END:VCALENDAR
