BEGIN:VCALENDAR
VERSION:2.0
PRODID:-//www.reinach-fuer-kinder.ch//NONSGML kigkonsult.se iCalcreator 2.2
 2//
CALSCALE:GREGORIAN
METHOD:PUBLISH
X-WR-TIMEZONE:Europe/Berlin
BEGIN:VEVENT
UID:20260422T174657CEST-9069KX3htz@www.reinach-fuer-kinder.ch
DTSTAMP:20260422T154657Z
DESCRIPTION:Klicken Sie auf den folgenden Link\, um weitere Informationen z
 ur Veranstaltung zu erhalten:\nhttp://www.reinach-fuer-kinder.ch/de/verans
 taltungen/detail/detail.php?i=10854
DTSTART:20261106T183000
DTEND:20261108T170000
LOCATION:Gemeindehaus Reinach
SUMMARY:Kunst in Reinach
END:VEVENT
END:VCALENDAR
