BEGIN:VCALENDAR
VERSION:2.0
PRODID:-//www.reinach-fuer-kinder.ch//NONSGML kigkonsult.se iCalcreator 2.2
 2//
CALSCALE:GREGORIAN
METHOD:PUBLISH
X-WR-TIMEZONE:Europe/Berlin
BEGIN:VEVENT
UID:20260422T174639CEST-6783tUJ7i3@www.reinach-fuer-kinder.ch
DTSTAMP:20260422T154639Z
DESCRIPTION:Klicken Sie auf den folgenden Link\, um weitere Informationen z
 ur Veranstaltung zu erhalten:\nhttp://www.reinach-fuer-kinder.ch/de/verans
 taltungen/detail/detail.php?i=10876
DTSTART:20260529T190000
DTEND:20260529T223000
LOCATION:
SUMMARY:Jazzkonzert 'Alex Felix Dream Band'
END:VEVENT
END:VCALENDAR
