BEGIN:VCALENDAR
VERSION:2.0
PRODID:-//www.reinach-fuer-kinder.ch//NONSGML kigkonsult.se iCalcreator 2.2
 2//
CALSCALE:GREGORIAN
METHOD:PUBLISH
X-WR-TIMEZONE:Europe/Berlin
BEGIN:VEVENT
UID:20260422T174753CEST-10003710BV@www.reinach-fuer-kinder.ch
DTSTAMP:20260422T154753Z
DESCRIPTION:Klicken Sie auf den folgenden Link\, um weitere Informationen z
 ur Veranstaltung zu erhalten:\nhttp://www.reinach-fuer-kinder.ch/de/verans
 taltungen/detail/detail.php?i=10888
DTSTART:20260529T180000
DTEND:20260530T170000
LOCATION:Treffpunkt Leimgruberhaus
SUMMARY:Babysitting-Kurs SRK für Jugendliche
END:VEVENT
END:VCALENDAR
