BEGIN:VCALENDAR
VERSION:2.0
PRODID:-//www.reinach-fuer-kinder.ch//NONSGML kigkonsult.se iCalcreator 2.2
 2//
CALSCALE:GREGORIAN
METHOD:PUBLISH
X-WR-TIMEZONE:Europe/Berlin
BEGIN:VEVENT
UID:20260422T174638CEST-3733t9rB7P@www.reinach-fuer-kinder.ch
DTSTAMP:20260422T154638Z
DESCRIPTION:Klicken Sie auf den folgenden Link\, um weitere Informationen z
 ur Veranstaltung zu erhalten:\nhttp://www.reinach-fuer-kinder.ch/de/verans
 taltungen/detail/detail.php?i=10899
DTSTART:20260610T150000
DTEND:20260610T170000
LOCATION:Bistro zum Glöggli
SUMMARY:Stammtisch Senioren für Senioren
END:VEVENT
END:VCALENDAR
