BEGIN:VCALENDAR
VERSION:2.0
PRODID:-//www.reinach-fuer-kinder.ch//NONSGML kigkonsult.se iCalcreator 2.2
 2//
CALSCALE:GREGORIAN
METHOD:PUBLISH
X-WR-TIMEZONE:Europe/Berlin
BEGIN:VEVENT
UID:20260422T174700CEST-5736jUZ4ru@www.reinach-fuer-kinder.ch
DTSTAMP:20260422T154700Z
DESCRIPTION:Klicken Sie auf den folgenden Link\, um weitere Informationen z
 ur Veranstaltung zu erhalten:\nhttp://www.reinach-fuer-kinder.ch/de/verans
 taltungen/detail/detail.php?i=10906
DTSTART:20260505T180000
DTEND:20260505T190000
LOCATION:Business Parc Reinach
SUMMARY:Infoveranstaltung „Ich mache mich selbständig“
END:VEVENT
END:VCALENDAR
