BEGIN:VCALENDAR
VERSION:2.0
PRODID:-//www.reinach-fuer-kinder.ch//NONSGML kigkonsult.se iCalcreator 2.2
 2//
CALSCALE:GREGORIAN
METHOD:PUBLISH
X-WR-TIMEZONE:Europe/Berlin
BEGIN:VEVENT
UID:20260422T174654CEST-8522LB9cuJ@www.reinach-fuer-kinder.ch
DTSTAMP:20260422T154654Z
DESCRIPTION:Klicken Sie auf den folgenden Link\, um weitere Informationen z
 ur Veranstaltung zu erhalten:\nhttp://www.reinach-fuer-kinder.ch/de/verans
 taltungen/detail/detail.php?i=10926
DTSTART:20261122T090000
DTEND:20261122T123000
LOCATION:
SUMMARY:Wintergäste am Augsterstau
END:VEVENT
END:VCALENDAR
