BEGIN:VCALENDAR
VERSION:2.0
PRODID:-//www.reinach-fuer-kinder.ch//NONSGML kigkonsult.se iCalcreator 2.2
 2//
CALSCALE:GREGORIAN
METHOD:PUBLISH
X-WR-TIMEZONE:Europe/Berlin
BEGIN:VEVENT
UID:20260422T174425CEST-7641XPungf@www.reinach-fuer-kinder.ch
DTSTAMP:20260422T154425Z
DESCRIPTION:Klicken Sie auf den folgenden Link\, um weitere Informationen z
 ur Veranstaltung zu erhalten:\nhttp://www.reinach-fuer-kinder.ch/de/verans
 taltungen/detail/detail.php?i=11019
DTSTART:20261023T190000
DTEND:20261023T210000
LOCATION:Gemeinde- und Schulbibliothek Reinach
SUMMARY:Ohne Geld bis ans Ende der Welt
END:VEVENT
END:VCALENDAR
