BEGIN:VCALENDAR
VERSION:2.0
PRODID:-//www.reinach-fuer-kinder.ch//NONSGML kigkonsult.se iCalcreator 2.2
 2//
CALSCALE:GREGORIAN
METHOD:PUBLISH
X-WR-TIMEZONE:Europe/Berlin
BEGIN:VEVENT
UID:20260422T174426CEST-1262uS8VV7@www.reinach-fuer-kinder.ch
DTSTAMP:20260422T154426Z
DESCRIPTION:Klicken Sie auf den folgenden Link\, um weitere Informationen z
 ur Veranstaltung zu erhalten:\nhttp://www.reinach-fuer-kinder.ch/de/verans
 taltungen/detail/detail.php?i=11020
DTSTART:20260530T090000
DTEND:20260530T160000
LOCATION:
SUMMARY:Flohmärt Ski-Club Reinach BL
END:VEVENT
END:VCALENDAR
